BEGIN:VCALENDAR
VERSION:2.0
PRODID:icalendar-ruby
CALSCALE:GREGORIAN
METHOD:PUBLISH
BEGIN:VEVENT
DTSTAMP:20260420T035014Z
UID:262-2732177@smrbc.org
DTSTART:20260502T131500Z
DTEND:20260502T160000Z
CLASS:PUBLIC
CREATED:20260414T104921
DESCRIPTION:PRC Walk for Life: Saturday\, May\nJoin us for the Pregnancy Re
 source Center (PRC) of Metro Richmond’s annual Walk for Life at Deep Run
  Park. This special event supports men and women facing unplanned pregnanc
 ies by providing compassionate care\, practical resources\, and hope throu
 gh life-affirming services.\nThis family-friendly morning begins at 9:15 A
 M with activities for children\, along with light breakfast and coffee. Pa
 rticipants of all ages are invited to enjoy a simple\, stroller-friendly w
 alk\, followed by fellowship and a light lunch.\nWhether you walk with us 
 at the park or participate by collecting pledges and walking on your own\,
  your involvement helps make a meaningful impact for life in our community
 .\nFor more information and to register or donate\, please see the link be
 low.
LAST-MODIFIED:20260414T104921
LOCATION:
SUMMARY:Pregnancy Resource Center: Walk for Life
URL;VALUE=URI:https://smrbc.org/events/pregnancy-resource-center-walk-for-l
 ife/2026-05-02
ATTACH;FILENAME=Walk for life 2026.jpg;FMTTYPE=image/jpeg:https://dq5pwpg1q
 8ru0.cloudfront.net/2026/04/14/14/42/48/dc3030bd-351f-4440-b873-12cd587371
 5c/Walk%20for%20life%202026.jpg
END:VEVENT
END:VCALENDAR
